BEGIN:VCALENDAR
VERSION:2.0
PRODID:-//California Virtual Campus - ECPv6.15.20//NONSGML v1.0//EN
CALSCALE:GREGORIAN
METHOD:PUBLISH
X-ORIGINAL-URL:https://www.cvc.edu
X-WR-CALDESC:Events for California Virtual Campus
REFRESH-INTERVAL;VALUE=DURATION:PT1H
X-Robots-Tag:noindex
X-PUBLISHED-TTL:PT1H
BEGIN:VTIMEZONE
TZID:America/Los_Angeles
BEGIN:DAYLIGHT
TZOFFSETFROM:-0800
TZOFFSETTO:-0700
TZNAME:PDT
DTSTART:20240310T100000
END:DAYLIGHT
BEGIN:STANDARD
TZOFFSETFROM:-0700
TZOFFSETTO:-0800
TZNAME:PST
DTSTART:20241103T090000
END:STANDARD
BEGIN:DAYLIGHT
TZOFFSETFROM:-0800
TZOFFSETTO:-0700
TZNAME:PDT
DTSTART:20250309T100000
END:DAYLIGHT
BEGIN:STANDARD
TZOFFSETFROM:-0700
TZOFFSETTO:-0800
TZNAME:PST
DTSTART:20251102T090000
END:STANDARD
BEGIN:DAYLIGHT
TZOFFSETFROM:-0800
TZOFFSETTO:-0700
TZNAME:PDT
DTSTART:20260308T100000
END:DAYLIGHT
BEGIN:STANDARD
TZOFFSETFROM:-0700
TZOFFSETTO:-0800
TZNAME:PST
DTSTART:20261101T090000
END:STANDARD
END:VTIMEZONE
BEGIN:VEVENT
DTSTART;TZID=America/Los_Angeles:20250924T110000
DTEND;TZID=America/Los_Angeles:20250924T113000
DTSTAMP:20260421T141815
CREATED:20250910T203545Z
LAST-MODIFIED:20250910T203545Z
UID:22182-1758711600-1758713400@www.cvc.edu
SUMMARY:Welcome to NetTutor!
DESCRIPTION:Discover how NetTutor has evolved into a complete academic support platform\, providing students with on-demand tutoring\, integrated learning tools\, and a seamless connection to the resources their programs provide. This webinar will demonstrate the full student experience\, showcase key platform features\, and highlight flexible support packages for schools and programs. \nREGISTRATION LINK: https://us06web.zoom.us/webinar/register/WN_285VK8dcSXuIkGYRbruTQA#/registration
URL:https://www.cvc.edu/event/welcome-to-nettutor-97/2025-09-24/
ORGANIZER;CN="CVC-OEI":MAILTO:support@cvc.edu
END:VEVENT
BEGIN:VEVENT
DTSTART;TZID=America/Los_Angeles:20250917T110000
DTEND;TZID=America/Los_Angeles:20250917T113000
DTSTAMP:20260421T141815
CREATED:20250910T203545Z
LAST-MODIFIED:20250910T203545Z
UID:22181-1758106800-1758108600@www.cvc.edu
SUMMARY:Welcome to NetTutor!
DESCRIPTION:Discover how NetTutor has evolved into a complete academic support platform\, providing students with on-demand tutoring\, integrated learning tools\, and a seamless connection to the resources their programs provide. This webinar will demonstrate the full student experience\, showcase key platform features\, and highlight flexible support packages for schools and programs. \nREGISTRATION LINK: https://us06web.zoom.us/webinar/register/WN_285VK8dcSXuIkGYRbruTQA#/registration
URL:https://www.cvc.edu/event/welcome-to-nettutor-97/2025-09-17/
ORGANIZER;CN="CVC-OEI":MAILTO:support@cvc.edu
END:VEVENT
BEGIN:VEVENT
DTSTART;TZID=America/Los_Angeles:20250910T110000
DTEND;TZID=America/Los_Angeles:20250910T113000
DTSTAMP:20260421T141815
CREATED:20250910T203545Z
LAST-MODIFIED:20250910T203643Z
UID:22178-1757502000-1757503800@www.cvc.edu
SUMMARY:Welcome to NetTutor!
DESCRIPTION:Discover how NetTutor has evolved into a complete academic support platform\, providing students with on-demand tutoring\, integrated learning tools\, and a seamless connection to the resources their programs provide. This webinar will demonstrate the full student experience\, showcase key platform features\, and highlight flexible support packages for schools and programs. \nREGISTRATION LINK: https://us06web.zoom.us/webinar/register/WN_285VK8dcSXuIkGYRbruTQA#/registration
URL:https://www.cvc.edu/event/welcome-to-nettutor-97/2025-09-10/
ORGANIZER;CN="CVC-OEI":MAILTO:support@cvc.edu
END:VEVENT
END:VCALENDAR