BEGIN:VCALENDAR
VERSION:2.0
PRODID:-//California Virtual Campus - ECPv6.15.20//NONSGML v1.0//EN
CALSCALE:GREGORIAN
METHOD:PUBLISH
X-ORIGINAL-URL:https://www.cvc.edu
X-WR-CALDESC:Events for California Virtual Campus
REFRESH-INTERVAL;VALUE=DURATION:PT1H
X-Robots-Tag:noindex
X-PUBLISHED-TTL:PT1H
BEGIN:VTIMEZONE
TZID:America/Los_Angeles
BEGIN:DAYLIGHT
TZOFFSETFROM:-0800
TZOFFSETTO:-0700
TZNAME:PDT
DTSTART:20240310T100000
END:DAYLIGHT
BEGIN:STANDARD
TZOFFSETFROM:-0700
TZOFFSETTO:-0800
TZNAME:PST
DTSTART:20241103T090000
END:STANDARD
BEGIN:DAYLIGHT
TZOFFSETFROM:-0800
TZOFFSETTO:-0700
TZNAME:PDT
DTSTART:20250309T100000
END:DAYLIGHT
BEGIN:STANDARD
TZOFFSETFROM:-0700
TZOFFSETTO:-0800
TZNAME:PST
DTSTART:20251102T090000
END:STANDARD
BEGIN:DAYLIGHT
TZOFFSETFROM:-0800
TZOFFSETTO:-0700
TZNAME:PDT
DTSTART:20260308T100000
END:DAYLIGHT
BEGIN:STANDARD
TZOFFSETFROM:-0700
TZOFFSETTO:-0800
TZNAME:PST
DTSTART:20261101T090000
END:STANDARD
END:VTIMEZONE
BEGIN:VEVENT
DTSTART;TZID=America/Los_Angeles:20250930T093000
DTEND;TZID=America/Los_Angeles:20250930T100000
DTSTAMP:20260421T122946
CREATED:20250910T203234Z
LAST-MODIFIED:20250910T203234Z
UID:22174-1759224600-1759226400@www.cvc.edu
SUMMARY:Welcome to NetTutor!
DESCRIPTION:Discover how NetTutor has evolved into a complete academic support platform\, providing students with on-demand tutoring\, integrated learning tools\, and a seamless connection to the resources their programs provide. This webinar will demonstrate the full student experience\, showcase key platform features\, and highlight flexible support packages for schools and programs. \nREGISTRATION LINK: https://us06web.zoom.us/webinar/register/WN_Yb97Zy20TeWlahTh5Ch5mg#/registration
URL:https://www.cvc.edu/event/welcome-to-nettutor-95/2025-09-30/
ORGANIZER;CN="CVC-OEI":MAILTO:support@cvc.edu
END:VEVENT
BEGIN:VEVENT
DTSTART;TZID=America/Los_Angeles:20250923T093000
DTEND;TZID=America/Los_Angeles:20250923T100000
DTSTAMP:20260421T122946
CREATED:20250910T203234Z
LAST-MODIFIED:20250910T203234Z
UID:22173-1758619800-1758621600@www.cvc.edu
SUMMARY:Welcome to NetTutor!
DESCRIPTION:Discover how NetTutor has evolved into a complete academic support platform\, providing students with on-demand tutoring\, integrated learning tools\, and a seamless connection to the resources their programs provide. This webinar will demonstrate the full student experience\, showcase key platform features\, and highlight flexible support packages for schools and programs. \nREGISTRATION LINK: https://us06web.zoom.us/webinar/register/WN_Yb97Zy20TeWlahTh5Ch5mg#/registration
URL:https://www.cvc.edu/event/welcome-to-nettutor-95/2025-09-23/
ORGANIZER;CN="CVC-OEI":MAILTO:support@cvc.edu
END:VEVENT
BEGIN:VEVENT
DTSTART;TZID=America/Los_Angeles:20250916T093000
DTEND;TZID=America/Los_Angeles:20250916T100000
DTSTAMP:20260421T122946
CREATED:20250910T203234Z
LAST-MODIFIED:20250910T203234Z
UID:22172-1758015000-1758016800@www.cvc.edu
SUMMARY:Welcome to NetTutor!
DESCRIPTION:Discover how NetTutor has evolved into a complete academic support platform\, providing students with on-demand tutoring\, integrated learning tools\, and a seamless connection to the resources their programs provide. This webinar will demonstrate the full student experience\, showcase key platform features\, and highlight flexible support packages for schools and programs. \nREGISTRATION LINK: https://us06web.zoom.us/webinar/register/WN_Yb97Zy20TeWlahTh5Ch5mg#/registration
URL:https://www.cvc.edu/event/welcome-to-nettutor-95/2025-09-16/
ORGANIZER;CN="CVC-OEI":MAILTO:support@cvc.edu
END:VEVENT
BEGIN:VEVENT
DTSTART;TZID=America/Los_Angeles:20250910T093000
DTEND;TZID=America/Los_Angeles:20250910T100000
DTSTAMP:20260421T122946
CREATED:20250910T203234Z
LAST-MODIFIED:20250910T203234Z
UID:22171-1757496600-1757498400@www.cvc.edu
SUMMARY:Welcome to NetTutor!
DESCRIPTION:Discover how NetTutor has evolved into a complete academic support platform\, providing students with on-demand tutoring\, integrated learning tools\, and a seamless connection to the resources their programs provide. This webinar will demonstrate the full student experience\, showcase key platform features\, and highlight flexible support packages for schools and programs. \nREGISTRATION LINK: https://us06web.zoom.us/webinar/register/WN_Yb97Zy20TeWlahTh5Ch5mg#/registration
URL:https://www.cvc.edu/event/welcome-to-nettutor-95/2025-09-10/
ORGANIZER;CN="CVC-OEI":MAILTO:support@cvc.edu
END:VEVENT
END:VCALENDAR