BEGIN:VCALENDAR
VERSION:2.0
PRODID:-//California Virtual Campus - ECPv6.15.20//NONSGML v1.0//EN
CALSCALE:GREGORIAN
METHOD:PUBLISH
X-ORIGINAL-URL:https://www.cvc.edu
X-WR-CALDESC:Events for California Virtual Campus
REFRESH-INTERVAL;VALUE=DURATION:PT1H
X-Robots-Tag:noindex
X-PUBLISHED-TTL:PT1H
BEGIN:VTIMEZONE
TZID:America/Los_Angeles
BEGIN:DAYLIGHT
TZOFFSETFROM:-0800
TZOFFSETTO:-0700
TZNAME:PDT
DTSTART:20240310T100000
END:DAYLIGHT
BEGIN:STANDARD
TZOFFSETFROM:-0700
TZOFFSETTO:-0800
TZNAME:PST
DTSTART:20241103T090000
END:STANDARD
BEGIN:DAYLIGHT
TZOFFSETFROM:-0800
TZOFFSETTO:-0700
TZNAME:PDT
DTSTART:20250309T100000
END:DAYLIGHT
BEGIN:STANDARD
TZOFFSETFROM:-0700
TZOFFSETTO:-0800
TZNAME:PST
DTSTART:20251102T090000
END:STANDARD
BEGIN:DAYLIGHT
TZOFFSETFROM:-0800
TZOFFSETTO:-0700
TZNAME:PDT
DTSTART:20260308T100000
END:DAYLIGHT
BEGIN:STANDARD
TZOFFSETFROM:-0700
TZOFFSETTO:-0800
TZNAME:PST
DTSTART:20261101T090000
END:STANDARD
END:VTIMEZONE
BEGIN:VEVENT
DTSTART;TZID=America/Los_Angeles:20250930T090000
DTEND;TZID=America/Los_Angeles:20250930T093000
DTSTAMP:20260423T030057
CREATED:20250910T203004Z
LAST-MODIFIED:20250918T221609Z
UID:22170-1759222800-1759224600@www.cvc.edu
SUMMARY:Welcome to NetTutor!
DESCRIPTION:Discover how NetTutor has evolved into a complete academic support platform\, providing students with on-demand tutoring\, integrated learning tools\, and a seamless connection to the resources their programs provide. This webinar will demonstrate the full student experience\, showcase key platform features\, and highlight flexible support packages for schools and programs. \nREGISTRATION LINK: https://us06web.zoom.us/webinar/register/WN_hLOY2anqRcuw7S5LxV1mBw#/registration
URL:https://www.cvc.edu/event/ask-nettutor-3/2025-09-30/
ORGANIZER;CN="CVC-OEI":MAILTO:support@cvc.edu
END:VEVENT
BEGIN:VEVENT
DTSTART;TZID=America/Los_Angeles:20250923T090000
DTEND;TZID=America/Los_Angeles:20250923T093000
DTSTAMP:20260423T030057
CREATED:20250910T203004Z
LAST-MODIFIED:20250918T221608Z
UID:22169-1758618000-1758619800@www.cvc.edu
SUMMARY:Welcome to NetTutor!
DESCRIPTION:Discover how NetTutor has evolved into a complete academic support platform\, providing students with on-demand tutoring\, integrated learning tools\, and a seamless connection to the resources their programs provide. This webinar will demonstrate the full student experience\, showcase key platform features\, and highlight flexible support packages for schools and programs. \nREGISTRATION LINK: https://us06web.zoom.us/webinar/register/WN_hLOY2anqRcuw7S5LxV1mBw#/registration
URL:https://www.cvc.edu/event/ask-nettutor-3/2025-09-23/
ORGANIZER;CN="CVC-OEI":MAILTO:support@cvc.edu
END:VEVENT
BEGIN:VEVENT
DTSTART;TZID=America/Los_Angeles:20250916T090000
DTEND;TZID=America/Los_Angeles:20250916T093000
DTSTAMP:20260423T030057
CREATED:20250910T203004Z
LAST-MODIFIED:20250918T221607Z
UID:22168-1758013200-1758015000@www.cvc.edu
SUMMARY:Welcome to NetTutor!
DESCRIPTION:Discover how NetTutor has evolved into a complete academic support platform\, providing students with on-demand tutoring\, integrated learning tools\, and a seamless connection to the resources their programs provide. This webinar will demonstrate the full student experience\, showcase key platform features\, and highlight flexible support packages for schools and programs. \nREGISTRATION LINK: https://us06web.zoom.us/webinar/register/WN_hLOY2anqRcuw7S5LxV1mBw#/registration
URL:https://www.cvc.edu/event/ask-nettutor-3/2025-09-16/
ORGANIZER;CN="CVC-OEI":MAILTO:support@cvc.edu
END:VEVENT
BEGIN:VEVENT
DTSTART;TZID=America/Los_Angeles:20250910T090000
DTEND;TZID=America/Los_Angeles:20250910T093000
DTSTAMP:20260423T030057
CREATED:20250910T203004Z
LAST-MODIFIED:20250918T221606Z
UID:22167-1757494800-1757496600@www.cvc.edu
SUMMARY:Welcome to NetTutor!
DESCRIPTION:Discover how NetTutor has evolved into a complete academic support platform\, providing students with on-demand tutoring\, integrated learning tools\, and a seamless connection to the resources their programs provide. This webinar will demonstrate the full student experience\, showcase key platform features\, and highlight flexible support packages for schools and programs. \nREGISTRATION LINK: https://us06web.zoom.us/webinar/register/WN_hLOY2anqRcuw7S5LxV1mBw#/registration
URL:https://www.cvc.edu/event/ask-nettutor-3/2025-09-10/
ORGANIZER;CN="CVC-OEI":MAILTO:support@cvc.edu
END:VEVENT
END:VCALENDAR