BEGIN:VCALENDAR
VERSION:2.0
PRODID:-//California Virtual Campus - ECPv6.15.20//NONSGML v1.0//EN
CALSCALE:GREGORIAN
METHOD:PUBLISH
X-ORIGINAL-URL:https://www.cvc.edu
X-WR-CALDESC:Events for California Virtual Campus
REFRESH-INTERVAL;VALUE=DURATION:PT1H
X-Robots-Tag:noindex
X-PUBLISHED-TTL:PT1H
BEGIN:VTIMEZONE
TZID:America/Los_Angeles
BEGIN:DAYLIGHT
TZOFFSETFROM:-0800
TZOFFSETTO:-0700
TZNAME:PDT
DTSTART:20240310T100000
END:DAYLIGHT
BEGIN:STANDARD
TZOFFSETFROM:-0700
TZOFFSETTO:-0800
TZNAME:PST
DTSTART:20241103T090000
END:STANDARD
BEGIN:DAYLIGHT
TZOFFSETFROM:-0800
TZOFFSETTO:-0700
TZNAME:PDT
DTSTART:20250309T100000
END:DAYLIGHT
BEGIN:STANDARD
TZOFFSETFROM:-0700
TZOFFSETTO:-0800
TZNAME:PST
DTSTART:20251102T090000
END:STANDARD
BEGIN:DAYLIGHT
TZOFFSETFROM:-0800
TZOFFSETTO:-0700
TZNAME:PDT
DTSTART:20260308T100000
END:DAYLIGHT
BEGIN:STANDARD
TZOFFSETFROM:-0700
TZOFFSETTO:-0800
TZNAME:PST
DTSTART:20261101T090000
END:STANDARD
END:VTIMEZONE
BEGIN:VEVENT
DTSTART;TZID=America/Los_Angeles:20250826T090000
DTEND;TZID=America/Los_Angeles:20250826T100000
DTSTAMP:20260421T124024
CREATED:20250605T203502Z
LAST-MODIFIED:20250605T203502Z
UID:21589-1756198800-1756202400@www.cvc.edu
SUMMARY:Ask NetTutor®
DESCRIPTION:Discover how NetTutor has evolved into a complete academic support platform\, providing students with on-demand tutoring\, integrated learning tools\, and a seamless connection to the resources their programs provide. This webinar will demonstrate the full student experience\, showcase key platform features\, and highlight flexible support packages for schools and programs. \nSummer webinars are hosted on Tuesdays\, Wednesdays\, and Thursdays from June through August. \nREGISTER HERE FOR TUESDAYS: https://us06web.zoom.us/webinar/register/WN_hLOY2anqRcuw7S5LxV1mBw#/registration \n 
URL:https://www.cvc.edu/event/ask-nettutor-2/2025-08-26/
ORGANIZER;CN="CVC-OEI":MAILTO:support@cvc.edu
END:VEVENT
BEGIN:VEVENT
DTSTART;TZID=America/Los_Angeles:20250819T090000
DTEND;TZID=America/Los_Angeles:20250819T100000
DTSTAMP:20260421T124024
CREATED:20250605T203502Z
LAST-MODIFIED:20250605T203502Z
UID:21588-1755594000-1755597600@www.cvc.edu
SUMMARY:Ask NetTutor®
DESCRIPTION:Discover how NetTutor has evolved into a complete academic support platform\, providing students with on-demand tutoring\, integrated learning tools\, and a seamless connection to the resources their programs provide. This webinar will demonstrate the full student experience\, showcase key platform features\, and highlight flexible support packages for schools and programs. \nSummer webinars are hosted on Tuesdays\, Wednesdays\, and Thursdays from June through August. \nREGISTER HERE FOR TUESDAYS: https://us06web.zoom.us/webinar/register/WN_hLOY2anqRcuw7S5LxV1mBw#/registration \n 
URL:https://www.cvc.edu/event/ask-nettutor-2/2025-08-19/
ORGANIZER;CN="CVC-OEI":MAILTO:support@cvc.edu
END:VEVENT
BEGIN:VEVENT
DTSTART;TZID=America/Los_Angeles:20250812T090000
DTEND;TZID=America/Los_Angeles:20250812T100000
DTSTAMP:20260421T124024
CREATED:20250605T203502Z
LAST-MODIFIED:20250605T203502Z
UID:21587-1754989200-1754992800@www.cvc.edu
SUMMARY:Ask NetTutor®
DESCRIPTION:Discover how NetTutor has evolved into a complete academic support platform\, providing students with on-demand tutoring\, integrated learning tools\, and a seamless connection to the resources their programs provide. This webinar will demonstrate the full student experience\, showcase key platform features\, and highlight flexible support packages for schools and programs. \nSummer webinars are hosted on Tuesdays\, Wednesdays\, and Thursdays from June through August. \nREGISTER HERE FOR TUESDAYS: https://us06web.zoom.us/webinar/register/WN_hLOY2anqRcuw7S5LxV1mBw#/registration \n 
URL:https://www.cvc.edu/event/ask-nettutor-2/2025-08-12/
ORGANIZER;CN="CVC-OEI":MAILTO:support@cvc.edu
END:VEVENT
BEGIN:VEVENT
DTSTART;TZID=America/Los_Angeles:20250805T090000
DTEND;TZID=America/Los_Angeles:20250805T100000
DTSTAMP:20260421T124024
CREATED:20250605T203502Z
LAST-MODIFIED:20250605T203502Z
UID:21586-1754384400-1754388000@www.cvc.edu
SUMMARY:Ask NetTutor®
DESCRIPTION:Discover how NetTutor has evolved into a complete academic support platform\, providing students with on-demand tutoring\, integrated learning tools\, and a seamless connection to the resources their programs provide. This webinar will demonstrate the full student experience\, showcase key platform features\, and highlight flexible support packages for schools and programs. \nSummer webinars are hosted on Tuesdays\, Wednesdays\, and Thursdays from June through August. \nREGISTER HERE FOR TUESDAYS: https://us06web.zoom.us/webinar/register/WN_hLOY2anqRcuw7S5LxV1mBw#/registration \n 
URL:https://www.cvc.edu/event/ask-nettutor-2/2025-08-05/
ORGANIZER;CN="CVC-OEI":MAILTO:support@cvc.edu
END:VEVENT
BEGIN:VEVENT
DTSTART;TZID=America/Los_Angeles:20250729T090000
DTEND;TZID=America/Los_Angeles:20250729T100000
DTSTAMP:20260421T124024
CREATED:20250605T203502Z
LAST-MODIFIED:20250605T203502Z
UID:21585-1753779600-1753783200@www.cvc.edu
SUMMARY:Ask NetTutor®
DESCRIPTION:Discover how NetTutor has evolved into a complete academic support platform\, providing students with on-demand tutoring\, integrated learning tools\, and a seamless connection to the resources their programs provide. This webinar will demonstrate the full student experience\, showcase key platform features\, and highlight flexible support packages for schools and programs. \nSummer webinars are hosted on Tuesdays\, Wednesdays\, and Thursdays from June through August. \nREGISTER HERE FOR TUESDAYS: https://us06web.zoom.us/webinar/register/WN_hLOY2anqRcuw7S5LxV1mBw#/registration \n 
URL:https://www.cvc.edu/event/ask-nettutor-2/2025-07-29/
ORGANIZER;CN="CVC-OEI":MAILTO:support@cvc.edu
END:VEVENT
BEGIN:VEVENT
DTSTART;TZID=America/Los_Angeles:20250722T090000
DTEND;TZID=America/Los_Angeles:20250722T100000
DTSTAMP:20260421T124024
CREATED:20250605T203502Z
LAST-MODIFIED:20250605T203502Z
UID:21584-1753174800-1753178400@www.cvc.edu
SUMMARY:Ask NetTutor®
DESCRIPTION:Discover how NetTutor has evolved into a complete academic support platform\, providing students with on-demand tutoring\, integrated learning tools\, and a seamless connection to the resources their programs provide. This webinar will demonstrate the full student experience\, showcase key platform features\, and highlight flexible support packages for schools and programs. \nSummer webinars are hosted on Tuesdays\, Wednesdays\, and Thursdays from June through August. \nREGISTER HERE FOR TUESDAYS: https://us06web.zoom.us/webinar/register/WN_hLOY2anqRcuw7S5LxV1mBw#/registration \n 
URL:https://www.cvc.edu/event/ask-nettutor-2/2025-07-22/
ORGANIZER;CN="CVC-OEI":MAILTO:support@cvc.edu
END:VEVENT
BEGIN:VEVENT
DTSTART;TZID=America/Los_Angeles:20250715T090000
DTEND;TZID=America/Los_Angeles:20250715T100000
DTSTAMP:20260421T124024
CREATED:20250605T203502Z
LAST-MODIFIED:20250605T203502Z
UID:21583-1752570000-1752573600@www.cvc.edu
SUMMARY:Ask NetTutor®
DESCRIPTION:Discover how NetTutor has evolved into a complete academic support platform\, providing students with on-demand tutoring\, integrated learning tools\, and a seamless connection to the resources their programs provide. This webinar will demonstrate the full student experience\, showcase key platform features\, and highlight flexible support packages for schools and programs. \nSummer webinars are hosted on Tuesdays\, Wednesdays\, and Thursdays from June through August. \nREGISTER HERE FOR TUESDAYS: https://us06web.zoom.us/webinar/register/WN_hLOY2anqRcuw7S5LxV1mBw#/registration \n 
URL:https://www.cvc.edu/event/ask-nettutor-2/2025-07-15/
ORGANIZER;CN="CVC-OEI":MAILTO:support@cvc.edu
END:VEVENT
BEGIN:VEVENT
DTSTART;TZID=America/Los_Angeles:20250708T090000
DTEND;TZID=America/Los_Angeles:20250708T100000
DTSTAMP:20260421T124024
CREATED:20250605T203502Z
LAST-MODIFIED:20250605T203502Z
UID:21582-1751965200-1751968800@www.cvc.edu
SUMMARY:Ask NetTutor®
DESCRIPTION:Discover how NetTutor has evolved into a complete academic support platform\, providing students with on-demand tutoring\, integrated learning tools\, and a seamless connection to the resources their programs provide. This webinar will demonstrate the full student experience\, showcase key platform features\, and highlight flexible support packages for schools and programs. \nSummer webinars are hosted on Tuesdays\, Wednesdays\, and Thursdays from June through August. \nREGISTER HERE FOR TUESDAYS: https://us06web.zoom.us/webinar/register/WN_hLOY2anqRcuw7S5LxV1mBw#/registration \n 
URL:https://www.cvc.edu/event/ask-nettutor-2/2025-07-08/
ORGANIZER;CN="CVC-OEI":MAILTO:support@cvc.edu
END:VEVENT
BEGIN:VEVENT
DTSTART;TZID=America/Los_Angeles:20250701T090000
DTEND;TZID=America/Los_Angeles:20250701T100000
DTSTAMP:20260421T124024
CREATED:20250605T203502Z
LAST-MODIFIED:20250605T203502Z
UID:21581-1751360400-1751364000@www.cvc.edu
SUMMARY:Ask NetTutor®
DESCRIPTION:Discover how NetTutor has evolved into a complete academic support platform\, providing students with on-demand tutoring\, integrated learning tools\, and a seamless connection to the resources their programs provide. This webinar will demonstrate the full student experience\, showcase key platform features\, and highlight flexible support packages for schools and programs. \nSummer webinars are hosted on Tuesdays\, Wednesdays\, and Thursdays from June through August. \nREGISTER HERE FOR TUESDAYS: https://us06web.zoom.us/webinar/register/WN_hLOY2anqRcuw7S5LxV1mBw#/registration \n 
URL:https://www.cvc.edu/event/ask-nettutor-2/2025-07-01/
ORGANIZER;CN="CVC-OEI":MAILTO:support@cvc.edu
END:VEVENT
BEGIN:VEVENT
DTSTART;TZID=America/Los_Angeles:20250624T090000
DTEND;TZID=America/Los_Angeles:20250624T100000
DTSTAMP:20260421T124024
CREATED:20250605T203502Z
LAST-MODIFIED:20250605T203502Z
UID:21580-1750755600-1750759200@www.cvc.edu
SUMMARY:Ask NetTutor®
DESCRIPTION:Discover how NetTutor has evolved into a complete academic support platform\, providing students with on-demand tutoring\, integrated learning tools\, and a seamless connection to the resources their programs provide. This webinar will demonstrate the full student experience\, showcase key platform features\, and highlight flexible support packages for schools and programs. \nSummer webinars are hosted on Tuesdays\, Wednesdays\, and Thursdays from June through August. \nREGISTER HERE FOR TUESDAYS: https://us06web.zoom.us/webinar/register/WN_hLOY2anqRcuw7S5LxV1mBw#/registration \n 
URL:https://www.cvc.edu/event/ask-nettutor-2/2025-06-24/
ORGANIZER;CN="CVC-OEI":MAILTO:support@cvc.edu
END:VEVENT
BEGIN:VEVENT
DTSTART;TZID=America/Los_Angeles:20250617T090000
DTEND;TZID=America/Los_Angeles:20250617T100000
DTSTAMP:20260421T124024
CREATED:20250605T203502Z
LAST-MODIFIED:20250605T203502Z
UID:21579-1750150800-1750154400@www.cvc.edu
SUMMARY:Ask NetTutor®
DESCRIPTION:Discover how NetTutor has evolved into a complete academic support platform\, providing students with on-demand tutoring\, integrated learning tools\, and a seamless connection to the resources their programs provide. This webinar will demonstrate the full student experience\, showcase key platform features\, and highlight flexible support packages for schools and programs. \nSummer webinars are hosted on Tuesdays\, Wednesdays\, and Thursdays from June through August. \nREGISTER HERE FOR TUESDAYS: https://us06web.zoom.us/webinar/register/WN_hLOY2anqRcuw7S5LxV1mBw#/registration \n 
URL:https://www.cvc.edu/event/ask-nettutor-2/2025-06-17/
ORGANIZER;CN="CVC-OEI":MAILTO:support@cvc.edu
END:VEVENT
BEGIN:VEVENT
DTSTART;TZID=America/Los_Angeles:20250610T090000
DTEND;TZID=America/Los_Angeles:20250610T100000
DTSTAMP:20260421T124024
CREATED:20250605T203502Z
LAST-MODIFIED:20250605T203502Z
UID:21578-1749546000-1749549600@www.cvc.edu
SUMMARY:Ask NetTutor®
DESCRIPTION:Discover how NetTutor has evolved into a complete academic support platform\, providing students with on-demand tutoring\, integrated learning tools\, and a seamless connection to the resources their programs provide. This webinar will demonstrate the full student experience\, showcase key platform features\, and highlight flexible support packages for schools and programs. \nSummer webinars are hosted on Tuesdays\, Wednesdays\, and Thursdays from June through August. \nREGISTER HERE FOR TUESDAYS: https://us06web.zoom.us/webinar/register/WN_hLOY2anqRcuw7S5LxV1mBw#/registration \n 
URL:https://www.cvc.edu/event/ask-nettutor-2/2025-06-10/
ORGANIZER;CN="CVC-OEI":MAILTO:support@cvc.edu
END:VEVENT
BEGIN:VEVENT
DTSTART;TZID=America/Los_Angeles:20250605T090000
DTEND;TZID=America/Los_Angeles:20250605T100000
DTSTAMP:20260421T124024
CREATED:20250605T203502Z
LAST-MODIFIED:20250605T203502Z
UID:21577-1749114000-1749117600@www.cvc.edu
SUMMARY:Ask NetTutor®
DESCRIPTION:Discover how NetTutor has evolved into a complete academic support platform\, providing students with on-demand tutoring\, integrated learning tools\, and a seamless connection to the resources their programs provide. This webinar will demonstrate the full student experience\, showcase key platform features\, and highlight flexible support packages for schools and programs. \nSummer webinars are hosted on Tuesdays\, Wednesdays\, and Thursdays from June through August. \nREGISTER HERE FOR TUESDAYS: https://us06web.zoom.us/webinar/register/WN_hLOY2anqRcuw7S5LxV1mBw#/registration \n 
URL:https://www.cvc.edu/event/ask-nettutor-2/2025-06-05/
ORGANIZER;CN="CVC-OEI":MAILTO:support@cvc.edu
END:VEVENT
END:VCALENDAR